BEGIN:VCALENDAR
VERSION:2.0
PRODID:-//Auburn Community Hospital - ECPv6.15.11//NONSGML v1.0//EN
CALSCALE:GREGORIAN
METHOD:PUBLISH
X-WR-CALNAME:Auburn Community Hospital
X-ORIGINAL-URL:https://www.auburnhospital.org
X-WR-CALDESC:Events for Auburn Community Hospital
REFRESH-INTERVAL;VALUE=DURATION:PT1H
X-Robots-Tag:noindex
X-PUBLISHED-TTL:PT1H
BEGIN:VTIMEZONE
TZID:America/New_York
BEGIN:DAYLIGHT
TZOFFSETFROM:-0500
TZOFFSETTO:-0400
TZNAME:EDT
DTSTART:20220313T070000
END:DAYLIGHT
BEGIN:STANDARD
TZOFFSETFROM:-0400
TZOFFSETTO:-0500
TZNAME:EST
DTSTART:20221106T060000
END:STANDARD
BEGIN:DAYLIGHT
TZOFFSETFROM:-0500
TZOFFSETTO:-0400
TZNAME:EDT
DTSTART:20230312T070000
END:DAYLIGHT
BEGIN:STANDARD
TZOFFSETFROM:-0400
TZOFFSETTO:-0500
TZNAME:EST
DTSTART:20231105T060000
END:STANDARD
BEGIN:DAYLIGHT
TZOFFSETFROM:-0500
TZOFFSETTO:-0400
TZNAME:EDT
DTSTART:20240310T070000
END:DAYLIGHT
BEGIN:STANDARD
TZOFFSETFROM:-0400
TZOFFSETTO:-0500
TZNAME:EST
DTSTART:20241103T060000
END:STANDARD
END:VTIMEZONE
BEGIN:VEVENT
DTSTART;TZID=America/New_York:20230121T170000
DTEND;TZID=America/New_York:20230121T220000
DTSTAMP:20260424T023434
CREATED:20221206T175503Z
LAST-MODIFIED:20230117T212251Z
UID:8208-1674320400-1674338400@www.auburnhospital.org
SUMMARY:Auburn Community Hospital 2023 Gala
DESCRIPTION:The gala is Auburn Community Hospital’s premier fundraising event. For the past two years\, the gala has been cancelled due to the COVID-19 pandemic. We’re excited to bring the event back to gather community members and supporters to celebrate the hospital and raise funds for essential hospital services. \nThis year\, the proceeds from the Gala will support our new cancer center that is being built on the ACH Campus. We will be partnering with the SUNY Upstate Cancer Center to deliver true multidisciplinary cancer care. This 12\,000-square-foot cancer facility will allow the hospital to add radiation oncology services to its cancer treatment offerings\, which it launched in early 2020 in partnership with Upstate cancer physicians. Upstate Medical University will provide clinical physicians and technologists\, while the center will be operated by ACH.
URL:https://www.auburnhospital.org/event/auburn-community-hospital-2023-gala/
LOCATION:Emerson Park Pavilion\, 6914 East Lake Road\, Auburn\, New York\, 13021
CATEGORIES:Fundraiser,Gala
END:VEVENT
END:VCALENDAR