BEGIN:VCALENDAR
VERSION:2.0
PRODID:-//Auburn Community Hospital - ECPv6.15.11//NONSGML v1.0//EN
CALSCALE:GREGORIAN
METHOD:PUBLISH
X-ORIGINAL-URL:https://www.auburnhospital.org
X-WR-CALDESC:Events for Auburn Community Hospital
REFRESH-INTERVAL;VALUE=DURATION:PT1H
X-Robots-Tag:noindex
X-PUBLISHED-TTL:PT1H
BEGIN:VTIMEZONE
TZID:America/New_York
BEGIN:DAYLIGHT
TZOFFSETFROM:-0500
TZOFFSETTO:-0400
TZNAME:EDT
DTSTART:20180311T070000
END:DAYLIGHT
BEGIN:STANDARD
TZOFFSETFROM:-0400
TZOFFSETTO:-0500
TZNAME:EST
DTSTART:20181104T060000
END:STANDARD
BEGIN:DAYLIGHT
TZOFFSETFROM:-0500
TZOFFSETTO:-0400
TZNAME:EDT
DTSTART:20190310T070000
END:DAYLIGHT
BEGIN:STANDARD
TZOFFSETFROM:-0400
TZOFFSETTO:-0500
TZNAME:EST
DTSTART:20191103T060000
END:STANDARD
BEGIN:DAYLIGHT
TZOFFSETFROM:-0500
TZOFFSETTO:-0400
TZNAME:EDT
DTSTART:20200308T070000
END:DAYLIGHT
BEGIN:STANDARD
TZOFFSETFROM:-0400
TZOFFSETTO:-0500
TZNAME:EST
DTSTART:20201101T060000
END:STANDARD
END:VTIMEZONE
BEGIN:VEVENT
DTSTART;TZID=America/New_York:20190606T120000
DTEND;TZID=America/New_York:20190606T140000
DTSTAMP:20260422T112838
CREATED:20190529T142210Z
LAST-MODIFIED:20190529T142210Z
UID:4122-1559822400-1559829600@www.auburnhospital.org
SUMMARY:ACH Volunteer Luncheon
DESCRIPTION:Noon at Springside Inn \nRSVP by May 31\, 2019  to Laura Talcott – talcotla@auburnhospital.org
URL:https://www.auburnhospital.org/event/ach-volunteer-luncheon/
LOCATION:Springside Inn\, 6141 West Lake Rd.\, Auburn\, NY\, 13021\, United States
ORGANIZER;CN="Bridgette Dautrich":MAILTO:bdautrich@auburnhospital.org
END:VEVENT
END:VCALENDAR