BEGIN:VCALENDAR
VERSION:2.0
PRODID:-//Auburn Community Hospital - ECPv6.15.11//NONSGML v1.0//EN
CALSCALE:GREGORIAN
METHOD:PUBLISH
X-ORIGINAL-URL:https://www.auburnhospital.org
X-WR-CALDESC:Events for Auburn Community Hospital
REFRESH-INTERVAL;VALUE=DURATION:PT1H
X-Robots-Tag:noindex
X-PUBLISHED-TTL:PT1H
BEGIN:VTIMEZONE
TZID:UTC
BEGIN:STANDARD
TZOFFSETFROM:+0000
TZOFFSETTO:+0000
TZNAME:UTC
DTSTART:20180101T000000
END:STANDARD
END:VTIMEZONE
BEGIN:VEVENT
DTSTART;TZID=UTC:20190520T183000
DTEND;TZID=UTC:20190520T193000
DTSTAMP:20260422T125803
CREATED:20190415T232133Z
LAST-MODIFIED:20190515T000659Z
UID:3717-1558377000-1558380600@www.auburnhospital.org
SUMMARY:Diabetic CNY Support Group
DESCRIPTION:Diabetic CNY Group\nThird Floor Conference\n3rd Monday of the Month: 6:30 pm to 7:30 pm\nContact: Suzanne\, 252-4212
URL:https://www.auburnhospital.org/event/diabetic-cny-support-group/
LOCATION:Auburn Community Hospital\, 17 Lansing Street\, Auburn\, NY\, 13021\, United States
CATEGORIES:Support Groups
END:VEVENT
END:VCALENDAR